BEGIN:VCALENDAR
VERSION:2.0
PRODID:-//Baker Street Mystery - ECPv6.15.16//NONSGML v1.0//EN
CALSCALE:GREGORIAN
METHOD:PUBLISH
X-WR-CALNAME:Baker Street Mystery
X-ORIGINAL-URL:https://bakerstreetmystery.com
X-WR-CALDESC:Events for Baker Street Mystery
REFRESH-INTERVAL;VALUE=DURATION:PT1H
X-Robots-Tag:noindex
X-PUBLISHED-TTL:PT1H
BEGIN:VTIMEZONE
TZID:America/Chicago
BEGIN:DAYLIGHT
TZOFFSETFROM:-0600
TZOFFSETTO:-0500
TZNAME:CDT
DTSTART:20240310T080000
END:DAYLIGHT
BEGIN:STANDARD
TZOFFSETFROM:-0500
TZOFFSETTO:-0600
TZNAME:CST
DTSTART:20241103T070000
END:STANDARD
BEGIN:DAYLIGHT
TZOFFSETFROM:-0600
TZOFFSETTO:-0500
TZNAME:CDT
DTSTART:20250309T080000
END:DAYLIGHT
BEGIN:STANDARD
TZOFFSETFROM:-0500
TZOFFSETTO:-0600
TZNAME:CST
DTSTART:20251102T070000
END:STANDARD
BEGIN:DAYLIGHT
TZOFFSETFROM:-0600
TZOFFSETTO:-0500
TZNAME:CDT
DTSTART:20260308T080000
END:DAYLIGHT
BEGIN:STANDARD
TZOFFSETFROM:-0500
TZOFFSETTO:-0600
TZNAME:CST
DTSTART:20261101T070000
END:STANDARD
BEGIN:DAYLIGHT
TZOFFSETFROM:-0600
TZOFFSETTO:-0500
TZNAME:CDT
DTSTART:20270314T080000
END:DAYLIGHT
BEGIN:STANDARD
TZOFFSETFROM:-0500
TZOFFSETTO:-0600
TZNAME:CST
DTSTART:20271107T070000
END:STANDARD
END:VTIMEZONE
BEGIN:VEVENT
DTSTART;TZID=America/Chicago:20251231T210000
DTEND;TZID=America/Chicago:20251231T230000
DTSTAMP:20260420T094417
CREATED:20251223T000632Z
LAST-MODIFIED:20251223T000632Z
UID:10000347-1767214800-1767222000@bakerstreetmystery.com
SUMMARY:Private Event - Murder at Deadwood Saloon
DESCRIPTION:It’s the First Annual Deadwood Poker Tournament!\nFor weeks\, people have been pouring into the small western town of Deadwood for the biggest poker tournament this side of the Mississippi. From outlaws to marshalls and saloon girls to southern belles\, everyone has made this small western frontier town THE place to be.\nAs the festivities of the poker tournament conclude\, a celebration party is planned at the Deadwood Saloon to award the prize money for the tournament and to celebrate what is hoping to be a very financially successful venture for the saloon.\nWith a smattering of bandits\, bankers\, saloon girls\, sheriffs\, gamblers\, east coast debutantes\, and of course a few of the locals\, this is guaranteed to make for a very interesting evening indeed.
URL:https://bakerstreetmystery.com/event/private-event/murder-mystery/2025/private-event-murder-at-deadwood-saloon-3/
LOCATION:TX
CATEGORIES:Murder Mystery
ATTACH;FMTTYPE=image/jpeg:https://bakerstreetmystery.com/wp-content/uploads/2024/04/WildWestMurder-64-of-88-1.jpg
END:VEVENT
BEGIN:VEVENT
DTSTART;TZID=America/Chicago:20260110T190000
DTEND;TZID=America/Chicago:20260110T210000
DTSTAMP:20260420T094417
CREATED:20260107T024826Z
LAST-MODIFIED:20260107T024826Z
UID:10000348-1768071600-1768078800@bakerstreetmystery.com
SUMMARY:Gatsby Gala
DESCRIPTION:In an era of decadence and delight\, the Gatsbys are known to throw the most elaborate and exquisite parties on West Egg\, and this weekend will be no different. \nWith society’s most notable and notorious set to attend\, it is going to be a soiree to die for … Until someone actually does! As the party progresses the guests will be asked to inspect\, interrogate and investigate in order to uncover the killer.
URL:https://bakerstreetmystery.com/event/hyatt-hill-country/murder-mystery/2026/gatsby-gala/
LOCATION:Hyatt Hill Country Resort and Villas\, 9800 Hyatt Resort Dr\,\, San Antonio\, TX\, 78251\, United States
CATEGORIES:Murder Mystery
ATTACH;FMTTYPE=image/jpeg:https://bakerstreetmystery.com/wp-content/uploads/2024/03/MurderMystery2023ss-47-of-94.jpg
END:VEVENT
BEGIN:VEVENT
DTSTART;TZID=America/Chicago:20260115T180000
DTEND;TZID=America/Chicago:20260115T200000
DTSTAMP:20260420T094417
CREATED:20251209T220702Z
LAST-MODIFIED:20251211T035147Z
UID:10000345-1768500000-1768507200@bakerstreetmystery.com
SUMMARY:A Deadly Vintage
DESCRIPTION:Join us for a night at one of the most exclusive valley events\, the Annual Vintage Release Party! As the winery owners and vintners of the valley clamor to show off their one-of-a-kind vintages to each other before releasing them to the public\, Charlotte Chardonnay hopes the exclusive event will pay tribute to her late father\, Charles\, who always put community before profit.  While sniffing\, swirling and sampling the visceral vintages\, a scandalous act of murder will occur\, leaving the party-goers in search of an uncorked killer! \nWill the murderer be a vivacious vintner who was ill prepared to deal with defeat? The vineyard owner seeking revenge for their sour grapes? Or possibly the bubbly champagne producer whose outgoing personality is covering for something? It will be up to you to decant this crime before the culprit can claim another vineyard victim in this wine murder mystery party.
URL:https://bakerstreetmystery.com/event/richter-tavern/murder-mystery/2025/a-deadly-vintage-3/
LOCATION:Richter Tavern
ATTACH;FMTTYPE=image/jpeg:https://bakerstreetmystery.com/wp-content/uploads/2025/12/Facebook.jpg
END:VEVENT
BEGIN:VEVENT
DTSTART;TZID=America/Chicago:20260123T190000
DTEND;TZID=America/Chicago:20260123T210000
DTSTAMP:20260420T094417
CREATED:20251209T220627Z
LAST-MODIFIED:20251209T220627Z
UID:10000346-1769194800-1769202000@bakerstreetmystery.com
SUMMARY:A Deadly Vintage
DESCRIPTION:Join us for a night at one of the most exclusive valley events\, the Annual Vintage Release Party! As the winery owners and vintners of the valley clamor to show off their one-of-a-kind vintages to each other before releasing them to the public\, Charlotte Chardonnay hopes the exclusive event will pay tribute to her late father\, Charles\, who always put community before profit.  While sniffing\, swirling and sampling the visceral vintages\, a scandalous act of murder will occur\, leaving the party-goers in search of an uncorked killer!\nWill the murderer be a vivacious vintner who was ill prepared to deal with defeat? The vineyard owner seeking revenge for their sour grapes? Or possibly the bubbly champagne producer whose outgoing personality is covering for something? It will be up to you to decant this crime before the culprit can claim another vineyard victim in this wine murder mystery party.
URL:https://bakerstreetmystery.com/event/lost-oak-winery/murder-mystery/2025/a-deadly-vintage/
LOCATION:Lost Oak Winery\, 111 Rosewood Avenue\, Boerne\, TX\, 78006\, United States
ATTACH;FMTTYPE=image/jpeg:https://bakerstreetmystery.com/wp-content/uploads/2024/03/murder_mystery_january_2024-13.jpg
END:VEVENT
BEGIN:VEVENT
DTSTART;TZID=America/Chicago:20260205T180000
DTEND;TZID=America/Chicago:20260205T200000
DTSTAMP:20260420T094417
CREATED:20260123T231017Z
LAST-MODIFIED:20260123T231107Z
UID:10000355-1770314400-1770321600@bakerstreetmystery.com
SUMMARY:Til Death Do Us Part
DESCRIPTION:Your presence is requested to celebrate the union of Becky Giovanni to Stanley Simpson with a wedding reception you won’t soon forget. \nAs friends and family come together for a night of food and fun\, it will quickly turn into a night of mystery and mayhem – leaving one of the guests murdered!
URL:https://bakerstreetmystery.com/event/wetmore-beach-house/murder-mystery/2026/til-death-do-us-part-2/
LOCATION:Wetmore Beach House
CATEGORIES:Murder Mystery
ATTACH;FMTTYPE=image/jpeg:https://bakerstreetmystery.com/wp-content/uploads/2025/12/TillDeath.jpg
END:VEVENT
BEGIN:VEVENT
DTSTART;TZID=America/Chicago:20260213T190000
DTEND;TZID=America/Chicago:20260213T210000
DTSTAMP:20260420T094417
CREATED:20260116T151352Z
LAST-MODIFIED:20260204T025409Z
UID:10000350-1771009200-1771016400@bakerstreetmystery.com
SUMMARY:Trailer Park Tragedy
DESCRIPTION:It’s the annual W.T Trailer Park BBQ and this year’s blast is going to be one to remember! Well known in the community and by the law enforcement agencies for its after-hours fights\, double-crossings\, and illegal happenings\, this trailer park’s BBQ is a recipe for disaster. However\, with free food and booze on the menu\, all of the ill-mannered\, illiterate\, and intoxicated residents are certain to be there – hair curlers and all! With too much history and not enough space\, something is bound to happen to send one of the guests over the edge . . .and another one to their death.
URL:https://bakerstreetmystery.com/event/suds-monkey/murder-mystery/2026/trailer-park-tragedy/
LOCATION:Suds Monkey Kitchen & Brewery Dripping Springs\, 12024 US-290\, Austin\, TX\, 78737\, United States
CATEGORIES:Murder Mystery
ATTACH;FMTTYPE=image/jpeg:https://bakerstreetmystery.com/wp-content/uploads/2025/02/MurderMysteryTrailerTragedy-23-of-91-scaled-WhUQ68.tmp_.jpg
END:VEVENT
BEGIN:VEVENT
DTSTART;TZID=America/Chicago:20260214T190000
DTEND;TZID=America/Chicago:20260214T210000
DTSTAMP:20260420T094417
CREATED:20260116T151630Z
LAST-MODIFIED:20260116T151630Z
UID:10000351-1771095600-1771102800@bakerstreetmystery.com
SUMMARY:Til Death Do Us Part
DESCRIPTION:Your presence is requested to celebrate the union of Becky Giovanni to Stanley Simpson with a wedding reception you won’t soon forget. \nAs friends and family come together for a night of food and fun\, it will quickly turn into a night of mystery and mayhem – leaving one of the guests murdered!
URL:https://bakerstreetmystery.com/event/hyatt-hill-country/murder-mystery/2026/til-death-do-us-part/
LOCATION:Hyatt Hill Country Resort and Villas\, 9800 Hyatt Resort Dr\,\, San Antonio\, TX\, 78251\, United States
CATEGORIES:Murder Mystery
ATTACH;FMTTYPE=image/jpeg:https://bakerstreetmystery.com/wp-content/uploads/2025/12/TillDeath.jpg
END:VEVENT
BEGIN:VEVENT
DTSTART;TZID=America/Chicago:20260214T193000
DTEND;TZID=America/Chicago:20260214T213000
DTSTAMP:20260420T094417
CREATED:20260123T231143Z
LAST-MODIFIED:20260204T031431Z
UID:10000352-1771097400-1771104600@bakerstreetmystery.com
SUMMARY:Murder at the Masquerade
DESCRIPTION:It’s the 100th anniversary of the founding of Twilight Belle\, and town owner R.N. Belle is throwing a masquerade party to celebrate the growth and prosperity for the momentous occasion. Pillars all across the community will be invited to this exclusive soiree at Belle Manor\, however not everyone agrees with the recent development in the town. With the mayor\, business owners and the elite gathered together\, true feelings of one another are bound to be unmasked – leading to one guest’s ultimate demise.
URL:https://bakerstreetmystery.com/event/wimberley-valley-winery/murder-mystery/2026/murder-at-the-masquerade-2/
LOCATION:Wimberley Valley Winery\, 2825 Lone Man Mountain Road\, Driftwood\, TX\, 78619\, United States
CATEGORIES:Murder Mystery
ATTACH;FMTTYPE=image/jpeg:https://bakerstreetmystery.com/wp-content/uploads/2024/12/masquerade-scaled-vq3AhE.tmp_.jpg
END:VEVENT
BEGIN:VEVENT
DTSTART;TZID=America/Chicago:20260219T140000
DTEND;TZID=America/Chicago:20260219T160000
DTSTAMP:20260420T094417
CREATED:20260128T081049Z
LAST-MODIFIED:20260207T180005Z
UID:10000356-1771509600-1771516800@bakerstreetmystery.com
SUMMARY:Private Event - Murder in Margaritaland
DESCRIPTION:Somewhere in the tropics between the Port of Confusion and Bay of Disarray\, you’ll find that murder meets mayhem and the intrigue begins! \nWhile most vacation at Margaritaland\, an exclusive tropical resort\, to get away from their troubles\, for one unfortunate soul\, it will mean the end of their travels altogether.\nAt the resort\, the guilty will mingle among the guests and everyone will be left with the task of deciphering between the facts and falsehoods that plague this paradise in order to make a killer pay for their crime.
URL:https://bakerstreetmystery.com/event/private-event/murder-mystery/2026/murder-in-margaritaland/
LOCATION:TX
CATEGORIES:Murder Mystery
ATTACH;FMTTYPE=image/jpeg:https://bakerstreetmystery.com/wp-content/uploads/2024/04/PXL_20240417_233210374.MP_-scaled-USsx6c.tmp_.jpg
END:VEVENT
BEGIN:VEVENT
DTSTART;TZID=America/Chicago:20260227T193000
DTEND;TZID=America/Chicago:20260227T213000
DTSTAMP:20260420T094417
CREATED:20260207T180613Z
LAST-MODIFIED:20260207T181040Z
UID:10000360-1772220600-1772227800@bakerstreetmystery.com
SUMMARY:A Scandal to Die For - A Regency Murder Mystery
DESCRIPTION:Dress in your finest Regency gowns and suits for an elegant night of secrets\, scandals\, and thrilling mystery. \n\n\n\n\n🍷 Dearest Gentle Reader\, Let it be known that a scandolous act of murder shall disrupt the tranquility of our soirée at the Bellemont Estate! 🔪 \nYou are cordially invited to the most anticipated gatherings of the Season. Lords and ladies from across the district come together to celebrate tradition\, ambition\, and the delicate balance of power that governs high society. \nBut behind the elegant smiles and graceful bows lie secrets that could ruin fortunes\, fracture families\, and shatter legacies. \nAs scandal simmers and rivalries unfold\, the evening takes a deadly turn. A prominent guest is found poisoned\, and every member of the Ton becomes a suspect. Was it jealousy? Greed? A desperate bid to protect a family name? \nIt will be up to YOU to decant this crime before the culprit can claim another victim! \n\n\n\nRead less
URL:https://bakerstreetmystery.com/event/the-vineyard-at-florence/murder-mystery/2026/a-scandal-to-die-for/
LOCATION:The Vineyard at Florence\, 111 Via Francesco\, Florence\, TX\, 76527
CATEGORIES:Murder Mystery
ATTACH;FMTTYPE=image/jpeg:https://bakerstreetmystery.com/wp-content/uploads/2026/02/Website-Theme-Images.jpg
END:VEVENT
BEGIN:VEVENT
DTSTART;TZID=America/Chicago:20260306T190000
DTEND;TZID=America/Chicago:20260306T210000
DTSTAMP:20260420T094417
CREATED:20260207T181322Z
LAST-MODIFIED:20260306T204759Z
UID:10000359-1772823600-1772830800@bakerstreetmystery.com
SUMMARY:80's Prom Gone Wrong
DESCRIPTION:With their high school career coming to an end\, the students of Mayhem High find themselves battling it out over grades\, popularity\, affection\, class rankings and what they all have been focused on for years… Who will be awarded the prom king and queen title? As the night unfolds\, the royalty will be rewarded and an innocent life will be claimed. From the preppie to the punk rocker\, the spaz to the stud\, the jock to the jilted—all are suspected although only one is to blame. Can you find the culprit in this crazy madness that is filled with neon\, naughtiness and narcissistic behavior?
URL:https://bakerstreetmystery.com/event/lost-oak-winery/murder-mystery/2026/80s-prom-gone-wrong/
LOCATION:Lost Oak Winery\, 111 Rosewood Avenue\, Boerne\, TX\, 78006\, United States
ATTACH;FMTTYPE=image/jpeg:https://bakerstreetmystery.com/wp-content/uploads/2024/05/SylverSpoonMurderDinner-13-of-71-scaled-gDWCdR.tmp_-e1766119853893.jpg
END:VEVENT
BEGIN:VEVENT
DTSTART;TZID=America/Chicago:20260307T183000
DTEND;TZID=America/Chicago:20260307T203000
DTSTAMP:20260420T094417
CREATED:20260123T231232Z
LAST-MODIFIED:20260123T231747Z
UID:10000354-1772908200-1772915400@bakerstreetmystery.com
SUMMARY:Private Event - Murder at the Juice Joint
DESCRIPTION:With the passing of prohibition and organized crime on the rise\, the Juice Joint (aka Sidecar)\, a swanky speakeasy run by Rosie Marie\, has been nothing but jumping. To celebrate its success\, Rosie is planning a party to remember at the exclusive nightspot and guests are dying to attend.\nWith murder on the menu\, you are certain to find a medley of individuals to make the party most memorable. From major mobsters and their molls to the swanky singer with her hopes at Hollywood. The cigarette girl with a temper that sizzles to the crooked police chief with nothing to lose – no one is safe from murder.
URL:https://bakerstreetmystery.com/event/private-event/murder-mystery/2026/murder-at-the-juice-joint/
LOCATION:TX
ATTACH;FMTTYPE=image/jpeg:https://bakerstreetmystery.com/wp-content/uploads/2024/04/DSC_2023-scaled-JfhTM6.tmp_.jpg
END:VEVENT
BEGIN:VEVENT
DTSTART;TZID=America/Chicago:20260307T190000
DTEND;TZID=America/Chicago:20260307T210000
DTSTAMP:20260420T094417
CREATED:20260218T022046Z
LAST-MODIFIED:20260218T022046Z
UID:10000381-1772910000-1772917200@bakerstreetmystery.com
SUMMARY:Murder in Margaritaland
DESCRIPTION:While most vacation at Margaritaland\, an exclusive tropical resort\, to get away from their troubles\, for one unfortunate soul\, it will mean the end of their travels altogether. \nAt the resort\, the guilty will mingle among the guests and everyone will be left with the task of deciphering between the facts and falsehoods that plague this paradise in order to make a killer pay for their crime. \nThis immersive murder mystery experience blends beach resort relaxation with mysterious island intrigue\, perfect for thrill-seekers who love character-driven mystery.
URL:https://bakerstreetmystery.com/event/hyatt-hill-country/murder-mystery/2026/murder-in-margaritaland-march-07/
LOCATION:Hyatt Hill Country Resort and Villas\, 9800 Hyatt Resort Dr\,\, San Antonio\, TX\, 78251\, United States
CATEGORIES:Murder Mystery
ATTACH;FMTTYPE=image/jpeg:https://bakerstreetmystery.com/wp-content/uploads/2025/12/Connections-Murder-Mystery-Event-Weddings-By-Wendi-44-scaled.jpg
END:VEVENT
BEGIN:VEVENT
DTSTART;TZID=America/Chicago:20260314T183000
DTEND;TZID=America/Chicago:20260314T203000
DTSTAMP:20260420T094417
CREATED:20260315T005631Z
LAST-MODIFIED:20260314T195746Z
UID:10000382-1773513000-1773520200@bakerstreetmystery.com
SUMMARY:Murder at Deadwood Saloon
DESCRIPTION:It’s the First Annual Deadwood Poker Tournament!\nFor weeks\, people have been pouring into the small western town of Deadwood for the biggest poker tournament this side of the Mississippi. From outlaws to marshalls and saloon girls to southern belles\, everyone has made this small western frontier town THE place to be.\nAs the festivities of the poker tournament conclude\, a celebration party is planned at the Deadwood Saloon to award the prize money for the tournament and to celebrate what is hoping to be a very financially successful venture for the saloon.\nWith a smattering of bandits\, bankers\, saloon girls\, sheriffs\, gamblers\, east coast debutantes\, and of course a few of the locals\, this is guaranteed to make for a very interesting evening indeed.
URL:https://bakerstreetmystery.com/event/the-texas-theatre/murder-mystery/2026/murder-at-deadwood-saloon-march14/
LOCATION:The Texas Theatre\, 425 N Austin St\, Seguin\, Texas\, 78155
CATEGORIES:Murder Mystery
ATTACH;FMTTYPE=image/jpeg:https://bakerstreetmystery.com/wp-content/uploads/2024/04/WildWestMurder-64-of-88-1.jpg
END:VEVENT
BEGIN:VEVENT
DTSTART;TZID=America/Chicago:20260314T190000
DTEND;TZID=America/Chicago:20260314T210000
DTSTAMP:20260420T094417
CREATED:20260315T005645Z
LAST-MODIFIED:20260314T195759Z
UID:10000358-1773514800-1773522000@bakerstreetmystery.com
SUMMARY:Lights Camera Murder!
DESCRIPTION:After a night of accolades at the Academy Awards Show\, you will attend  the A-list after-party hosted by millionaire Vanity Affair. While socializing and schmoozing with Hollywood’s elite\, careers will be made\, secrets will be revealed\, scandals will be broken and a homicide will happen. \nWith a V.I.P. victim and the celebrities all suspect\, you will be called upon to find the criminal by cracking this red carpet caper. \nWill it be an aspiring actress\, tired of living in the shadows?\nA livid lover who has been pushed too far?Or possibly\nthe teen starlet trying to attract a more mature audience? \nAs the night unfolds at this Hollywood murder mystery party\, so will a web of lies and scandals intricately woven to point you to a killer.It is up to you to uncover the clues or the culprit will remain concealed.
URL:https://bakerstreetmystery.com/event/hyatt-hill-country/murder-mystery/2026/lights-camera-murder/
LOCATION:Hyatt Hill Country Resort and Villas\, 9800 Hyatt Resort Dr\,\, San Antonio\, TX\, 78251\, United States
CATEGORIES:Murder Mystery
ATTACH;FMTTYPE=image/jpeg:https://bakerstreetmystery.com/wp-content/uploads/2024/04/SylverSpoonToriCodyMurderEngagement-70-of-210.jpg
END:VEVENT
BEGIN:VEVENT
DTSTART;TZID=America/Chicago:20260321T190000
DTEND;TZID=America/Chicago:20260321T210000
DTSTAMP:20260420T094417
CREATED:20260322T061405Z
LAST-MODIFIED:20260322T011522Z
UID:10000357-1774119600-1774126800@bakerstreetmystery.com
SUMMARY:Trailer Park Tragedy
DESCRIPTION:It’s the annual W.T Trailer Park BBQ and this year’s blast is going to be one to remember! Well known in the community and by the law enforcement agencies for its after-hours fights\, double-crossings\, and illegal happenings\, this trailer park’s BBQ is a recipe for disaster. However\, with free food and booze on the menu\, all of the ill-mannered\, illiterate\, and intoxicated residents are certain to be there – hair curlers and all! With too much history and not enough space\, something is bound to happen to send one of the guests over the edge . . .and another one to their death.
URL:https://bakerstreetmystery.com/event/hyatt-hill-country/murder-mystery/2026/trailer-park-tragedy-2/
LOCATION:Hyatt Hill Country Resort and Villas\, 9800 Hyatt Resort Dr\,\, San Antonio\, TX\, 78251\, United States
CATEGORIES:Murder Mystery
ATTACH;FMTTYPE=image/jpeg:https://bakerstreetmystery.com/wp-content/uploads/2025/02/MurderMysteryTrailerTragedy-23-of-91-scaled-WhUQ68.tmp_.jpg
END:VEVENT
BEGIN:VEVENT
DTSTART;TZID=America/Chicago:20260410T180000
DTEND;TZID=America/Chicago:20260410T200000
DTSTAMP:20260420T094417
CREATED:20260321T193150Z
LAST-MODIFIED:20260321T194559Z
UID:10000383-1775844000-1775851200@bakerstreetmystery.com
SUMMARY:Private Event - Murder in Margaritaland
DESCRIPTION:Somewhere in the tropics between the Port of Confusion and Bay of Disarray\, you’ll find that murder meets mayhem and the intrigue begins!\nWhile most vacation at Margaritaland\, an exclusive tropical resort\, to get away from their troubles\, for one unfortunate soul\, it will mean the end of their travels altogether. \nAt the resort\, the guilty will mingle among the guests and everyone will be left with the task of deciphering between the facts and falsehoods that plague this paradise in order to make a killer pay for their crime.
URL:https://bakerstreetmystery.com/event/private-event/murder-mystery/2026/murder-in-margaritaland-2/
LOCATION:TX
CATEGORIES:Murder Mystery
ATTACH;FMTTYPE=image/jpeg:https://bakerstreetmystery.com/wp-content/uploads/2024/04/PXL_20240417_233210374.MP_-scaled-USsx6c.tmp_.jpg
END:VEVENT
BEGIN:VEVENT
DTSTART;TZID=America/Chicago:20260411T190000
DTEND;TZID=America/Chicago:20260411T210000
DTSTAMP:20260420T094417
CREATED:20260321T193955Z
LAST-MODIFIED:20260321T193955Z
UID:10000361-1775934000-1775941200@bakerstreetmystery.com
SUMMARY:Murder at Deadwood Saloon
DESCRIPTION:It’s the First Annual Deadwood Poker Tournament! For weeks\, people have been pouring into the small western town of Deadwood for the biggest poker tournament this side of the Mississippi. From outlaws to marshals and saloon girls to southern belles\, everyone has made this small western frontier town THE place to be.\n\nAs the poker tournament concludes\, a celebration party is planned at the Deadwood Saloon to award the prize money and celebrate what we hope will be a financially successful venture for the saloon. With a smattering of bandits\, bankers\, saloon girls\, sheriffs\, gamblers\, East Coast debutantes\, and a few locals\, this is guaranteed to make for a very interesting evening indeed.
URL:https://bakerstreetmystery.com/event/hyatt-hill-country/murder-mystery/2026/murder-at-deadwood-saloon-3/
LOCATION:Hyatt Hill Country Resort and Villas\, 9800 Hyatt Resort Dr\,\, San Antonio\, TX\, 78251\, United States
CATEGORIES:Murder Mystery
ATTACH;FMTTYPE=image/jpeg:https://bakerstreetmystery.com/wp-content/uploads/2024/04/WildWestMurder-64-of-88-1.jpg
END:VEVENT
BEGIN:VEVENT
DTSTART;TZID=America/Chicago:20260523T190000
DTEND;TZID=America/Chicago:20260523T210000
DTSTAMP:20260420T094417
CREATED:20260321T194432Z
LAST-MODIFIED:20260321T194432Z
UID:10000362-1779562800-1779570000@bakerstreetmystery.com
SUMMARY:Murder High Reunion
DESCRIPTION:You’ve come a long way in the last thirty years and so have your classmates. It’s time to reunite with your old friends (and enemies) to see what everyone’s become. \nUnfortunately for one of you…it is a murderer who is destined to strike. \nWill it be the math team captain who is now a financial wizard with millions?\nThe valedictorian who refuses to let anyone top them? Ever.\nOr possibly the class president who is now a U.S. presidential hopeful? \nYou’ll have but one night to figure it out and bring the killer to justice in this high school reunion murder mystery party. Get ready for a night of mystery and mayhem intertwined with rivalries from the past that spill over to the present. At Murder High\, it’s not only what you were\, but what you’ve become. And let’s hope it’s a survivor.
URL:https://bakerstreetmystery.com/event/hyatt-hill-country/murder-mystery/2026/murder-high-reunion/
LOCATION:Hyatt Hill Country Resort and Villas\, 9800 Hyatt Resort Dr\,\, San Antonio\, TX\, 78251\, United States
CATEGORIES:Murder Mystery
ATTACH;FMTTYPE=image/webp:https://bakerstreetmystery.com/wp-content/uploads/2024/03/qtq_28.webp
END:VEVENT
BEGIN:VEVENT
DTSTART;TZID=America/Chicago:20260530T190000
DTEND;TZID=America/Chicago:20260530T210000
DTSTAMP:20260420T094417
CREATED:20260321T194522Z
LAST-MODIFIED:20260321T194522Z
UID:10000363-1780167600-1780174800@bakerstreetmystery.com
SUMMARY:Late Fees & Fatalities
DESCRIPTION:It’s the 1990s\, and Reel World is more than a video rental store — it’s a community landmark\, the backdrop for first dates\, Friday nights\, and neighborhood traditions. The shelves are lined with VHS tapes\, movie posters\, and memories\, but the store’s future hangs by a thread. With streaming on the horizon and investors growing restless\, Reel World’s survival is in doubt. \nTo fight back\, the owner has organized a “Save the Store” party — part fundraiser\, part celebration\, part rallying cry. Fans\, staff\, investors\, and local celebrities have all gathered under one roof to show their support (or\, in some cases\, to quietly push their own agendas). Everyone has a reason to be there: to preserve nostalgia\, to secure profits\, to chase attention\, or to stir up trouble. \nIt’s meant to be a night of laughter\, music\, and community pride — but when so many personalities collide\, the evening is destined to be unforgettable.
URL:https://bakerstreetmystery.com/event/hyatt-hill-country/murder-mystery/2026/late-fees-fatalities-3/
LOCATION:Hyatt Hill Country Resort and Villas\, 9800 Hyatt Resort Dr\,\, San Antonio\, TX\, 78251\, United States
CATEGORIES:Murder Mystery
ATTACH;FMTTYPE=image/jpeg:https://bakerstreetmystery.com/wp-content/uploads/2025/11/1990s.jpg
END:VEVENT
BEGIN:VEVENT
DTSTART;TZID=America/Chicago:20260606T190000
DTEND;TZID=America/Chicago:20260606T210000
DTSTAMP:20260420T094417
CREATED:20260321T194700Z
LAST-MODIFIED:20260321T194700Z
UID:10000364-1780772400-1780779600@bakerstreetmystery.com
SUMMARY:Lights Camera Murder!
DESCRIPTION:After a night of accolades at the Academy Awards Show\, you will attend the A-list after-party hosted by millionaire Vanity Affair. While socializing and schmoozing with Hollywood’s elite\, careers will be made\, secrets will be revealed\, scandals will be broken and a homicide will happen. \nWith a V.I.P. victim and the celebrities all suspect\, you will be called upon to find the criminal by cracking this red carpet caper. \nWill it be an aspiring actress\, tired of living in the shadows?\nA livid lover who has been pushed too far?Or possibly\nthe teen starlet trying to attract a more mature audience? \nAs the night unfolds at this Hollywood murder mystery party\, so will a web of lies and scandals intricately woven to point you to a killer.It is up to you to uncover the clues or the culprit will remain concealed.
URL:https://bakerstreetmystery.com/event/hyatt-hill-country/murder-mystery/2026/lights-camera-murder-2/
LOCATION:Hyatt Hill Country Resort and Villas\, 9800 Hyatt Resort Dr\,\, San Antonio\, TX\, 78251\, United States
CATEGORIES:Murder Mystery
ATTACH;FMTTYPE=image/jpeg:https://bakerstreetmystery.com/wp-content/uploads/2024/04/SylverSpoonToriCodyMurderEngagement-70-of-210.jpg
END:VEVENT
BEGIN:VEVENT
DTSTART;TZID=America/Chicago:20260613T190000
DTEND;TZID=America/Chicago:20260613T210000
DTSTAMP:20260420T094417
CREATED:20260321T194743Z
LAST-MODIFIED:20260321T194743Z
UID:10000365-1781377200-1781384400@bakerstreetmystery.com
SUMMARY:Murder in Sin City
DESCRIPTION:As the largest and most extravagant casino on the Las Vegas strip\, The Paramount Casino is throwing a party of epic proportions. With the highest rollers and the gutsiest gamblers\, the stakes are going to be high and there is no limit to what could happen. Everyone who is anyone in Vegas is sure to be in attendance for this grand event. From the powerful politician to the sexy showgirl\, the cunning cocktail waitress to Elvis himself–the guest list is as unlimited as the possibilities of how the night will end. Like everything else in Vegas\, the party will be a gamble and there is no certainty to the events of the evening.
URL:https://bakerstreetmystery.com/event/hyatt-hill-country/murder-mystery/2026/murder-in-sin-city-2/
LOCATION:Hyatt Hill Country Resort and Villas\, 9800 Hyatt Resort Dr\,\, San Antonio\, TX\, 78251\, United States
CATEGORIES:Murder Mystery
ATTACH;FMTTYPE=image/jpeg:https://bakerstreetmystery.com/wp-content/uploads/2024/04/MurderMystery2023ss-49-of-94-1.jpg
END:VEVENT
END:VCALENDAR