BEGIN:VCALENDAR
VERSION:2.0
PRODID:-//Baker Street Mystery - ECPv6.15.16//NONSGML v1.0//EN
CALSCALE:GREGORIAN
METHOD:PUBLISH
X-WR-CALNAME:Baker Street Mystery
X-ORIGINAL-URL:https://bakerstreetmystery.com
X-WR-CALDESC:Events for Baker Street Mystery
REFRESH-INTERVAL;VALUE=DURATION:PT1H
X-Robots-Tag:noindex
X-PUBLISHED-TTL:PT1H
BEGIN:VTIMEZONE
TZID:America/Chicago
BEGIN:DAYLIGHT
TZOFFSETFROM:-0600
TZOFFSETTO:-0500
TZNAME:CDT
DTSTART:20250309T080000
END:DAYLIGHT
BEGIN:STANDARD
TZOFFSETFROM:-0500
TZOFFSETTO:-0600
TZNAME:CST
DTSTART:20251102T070000
END:STANDARD
BEGIN:DAYLIGHT
TZOFFSETFROM:-0600
TZOFFSETTO:-0500
TZNAME:CDT
DTSTART:20260308T080000
END:DAYLIGHT
BEGIN:STANDARD
TZOFFSETFROM:-0500
TZOFFSETTO:-0600
TZNAME:CST
DTSTART:20261101T070000
END:STANDARD
BEGIN:DAYLIGHT
TZOFFSETFROM:-0600
TZOFFSETTO:-0500
TZNAME:CDT
DTSTART:20270314T080000
END:DAYLIGHT
BEGIN:STANDARD
TZOFFSETFROM:-0500
TZOFFSETTO:-0600
TZNAME:CST
DTSTART:20271107T070000
END:STANDARD
END:VTIMEZONE
BEGIN:VEVENT
DTSTART;TZID=America/Chicago:20260214T193000
DTEND;TZID=America/Chicago:20260214T213000
DTSTAMP:20260420T082804
CREATED:20260123T231143Z
LAST-MODIFIED:20260204T031431Z
UID:10000352-1771097400-1771104600@bakerstreetmystery.com
SUMMARY:Murder at the Masquerade
DESCRIPTION:It’s the 100th anniversary of the founding of Twilight Belle\, and town owner R.N. Belle is throwing a masquerade party to celebrate the growth and prosperity for the momentous occasion. Pillars all across the community will be invited to this exclusive soiree at Belle Manor\, however not everyone agrees with the recent development in the town. With the mayor\, business owners and the elite gathered together\, true feelings of one another are bound to be unmasked – leading to one guest’s ultimate demise.
URL:https://bakerstreetmystery.com/event/wimberley-valley-winery/murder-mystery/2026/murder-at-the-masquerade-2/
LOCATION:Wimberley Valley Winery\, 2825 Lone Man Mountain Road\, Driftwood\, TX\, 78619\, United States
CATEGORIES:Murder Mystery
ATTACH;FMTTYPE=image/jpeg:https://bakerstreetmystery.com/wp-content/uploads/2024/12/masquerade-scaled-vq3AhE.tmp_.jpg
END:VEVENT
END:VCALENDAR